Workbook
Name OLE_LINK2: 受入れ企業分!#REF!
Name OLE_LINK2: 監理団体分!#REF!

Sheet 受入れ企業分
A2: THƯ YÊU CẦU TUYỂN DỤNG LAO ĐỘNG KỸ NĂNG ĐẶC ĐỊNH VIỆT NAM ベトナム特定技能労働者募集依頼書
A3: Kính gửi cơ quan tiếp nhận | E3: COOPERATIVE SOCIETY NKU | J3: Người đại diện | L3: MATAGA RYOKO | N3: Số điện thoại 電話番号 | P3: 03-5730-4455
A4: 監理団体 | E4: 協同組合エヌ・ケー・ユー | J4: 代表者名 | L4: 又賀 良子 | N4: Fax ファクス | P4: 03-5730-4466
A5: Địa chỉ: | C5: 〒108-0014 Shiba 4-3-11, Minato-ku, Tokyo-to, Japan
A6: 住所: | C6: 〒108-0014 東京都港区芝四丁目3番11号
A7: I. THÔNG TIN CƠ BẢN VỀ CÔNG TY/受入企業の基本情報:
A8: Công ty/người sử dụng lao động | D8: Tsugaru Hirosaki Agricultural Cooperatives | J8: Người đại diện | L8: MASAHIRO AMANAI | N8: Số điện thoại: 電話番号: | P8: 0172-28-1111
A9: 会社/雇用主 | D9: つがる弘前農業協同組合 | J9: 代表者名 | L9: 天内 正博 | N9: Fax: ファクス:
A10: Địa chỉ : | C10: 4-1-1 Joto Kita, Hirosaki City, Aomori 〒036-8522, Japan
A11: 住所: | C11: 〒036-8522 青森県弘前市大字城東北四丁目1-1
A12: II. YÊU CẦU TUYỂN DỤNG/ 募集要項:
A13: Số lượng tiếp nhận 受入人数 | E13: 8 | F13: người 名 | G13: Giới tính : 性別： | H13: 0 | I13: Nam 男 | J13: 8 | K13: Nữ 女 | L13: Độ tuổi 年齢 | M13: 19-41 | Q13: Tuổi 歳
A14: Trình độ chuyên môn 専門要件 | E14: Không yêu cầu 不問 | J14: Trình độ ngoại ngữ 外国語レベル | M14: Người có thể giao tiếp bằng tiếng nhật ở trình độ N4 trở lên 日本語能力試験N4相当
A15: Đối tượng tuyển dụng 募集対象 | E15: Người lao động kết thúc TTS số 2, 3 cùng ngành nghề hoặc đã tự thi đỗ chứng chỉ kỹ năng đặc định ngành nông nghiệp (trồng trọt) và kỳ thi tiếng Nhật theo quy định của pháp luật Nhật Bản trước khi thi tuyển đơn hàng. 技能実習2号または3号を同一職種で修了した者、または求人への応募前に、日本の法令に基づき、農業分野（耕種農業）の特定技能評価試験および日本語試験に自ら合格した者。
A16: III. ĐIỀU KIỆN LÀM VIỆC CỤ THỂ/勤務条件は以下の通りである:
A17: Ngành nghề 職種 | E17: Nông nghiệp 農業 | L17: Điều kiện môi trường làm việc 労働環境 | N17: Trong xưởng và khu trồng trọt 工場内及び圃場
A18: Địa điểm làm việc 労働場所 | E18: 509-1, Godai Waseda, Hirosaki City, Aomori 青森県弘前市五代字早稲田509-1 | L18: Dự kiến nhập cảnh 入国予定 | N18: Tháng 2 năm 2027 2027年2月
A19: Thời hạn hợp đồng 契約期間 | E19: 1 | F19: năm 年 | L19: Lương cơ bản 基本給 | N19: 185220 | R19: Yên/tháng 円/月
A20: Lương giờ 時給 | E20: 1090 | F20: Yên/giờ 円/時間 | G20: Trợ cấp hàng tháng 月額手当 | I20: 10000 | K20: Yên/tháng 円/月 | L20: Tiền thưởng 賞与 | N20: Không 無 | R20: Yên/năm 円/年
A21: Thời gian làm việc 勤務時間 | E21: 8 | F21: Tiếng/ngày 時間/日 | G21: Thời gian nghỉ giải lao 休憩時間 | I21: 90 | K21: Phút/ngày 分/日 | L21: Số ngày làm việc trong tuần 週間の所定労働日数 | N21: 5 | R21: Ngày 日間
A22: Số giờ làm việc 1 tháng １か月の所定労働時間数 | E22: =N19/E20 -> 169.92661 | F22: Giờ/tháng 時間/月 | G22: Số giờ làm việc trong năm 年間総所定労働時間数 | I22: =E22*12 -> 2039.1193 | K22: Giờ/năm 時間/年 | L22: Số ngày nghỉ trong năm 年間合計休日日数 | N22: 95 | R22: Ngày 日間
A23: Các khoản khấu trừ từ lương 賃金支払時に控除する項目 | F23: Thuế 税金 | G23: 2000 | H23: Yên/tháng 円/月 | K23: Các loại phí bảo hiểm 各種保険料 | M23: 28000 | N23: Yên/tháng 円/月
F24: Chi phí thuê nhà 家賃 | G24: 10000 | H24: Yên/tháng 円/月 | I24: Lao động kỹ năng đặc định tự chi trả / 特定技能労働者が支払う
A25: Điều kiện ăn ở sinh hoạt 生活に関する項目 | F25: Điện, nước, ga 水道光熱費 | I25: Thực phí 実費 | K25: Yên/tháng 円/月 | L25: Lao động kỹ năng đặc định tự chi trả 特定技能労働者が支払う
F26: Tiền ăn 食事代 | G26: Thực phí 実費 | H26: Yên/tháng 円/月 | I26: Lao động kỹ năng đặc định tự chi trả / 特定技能労働者が支払う
A27: Lương thực lĩnh 手取り額 | E27: =N19+I20-G23-M23-G24 -> 155220 | F27: Yên/ tháng 円/月
A28: Vé máy bay 航空券代 | C28: Bên tiếp nhận lao động đài thọ vé máy bay chiều đi, chiều về khi lao động hoàn thành hợp đồng hai bên sẽ thỏa thuận, nếu người lao động không thể chi trả tiền vé về thì Công ty sử dụng lao động sẽ mua vé máy bay cho người lao động. 労働者がベトナムから来日旅費には受け入れ企業が負担します。労働者が契約終了後帰国のチケット代に関しては 受け入れ企業と労働者と協議して決める。労働者がチケット代を負担出来ない場合には 受け入れ企業の方で労働者が帰国のチケットを購入できるようにする
A29: IV. CÁC NỘI DUNG KHÁC/その他の内容: Không/無
L30: =L31 -> 46227
L31: 46227
H32: Công ty/người sử dụng lao động
H33: 会社/雇用主 | L33: =D9 -> つがる弘前農業協同組合
H34: Người đại diện
H35: 代表者名 | L35: =L9 -> 天内 正博
H36: Ký tên, đóng dấu) (署名・捺印)

Sheet 監理団体分
A2: THƯ YÊU CẦU TUYỂN DỤNG LAO ĐỘNG KỸ NĂNG ĐẶC ĐỊNH VIỆT NAM ベトナム特定技能労働者募集依頼書
A4: Kính gửi : Công ty cổ phần thương mại và hợp tác quốc tế Nhật Việt JAPAN VIETNAM TRADE AND INTERNATIONAL COOPERATION JOINT STOCK COMPANY (JVCOM., JSC) 御中 Căn cứ Hợp đồng cung ứng lao động kỹ năng đặc định số 15 ký ngày 1 tháng 7 năm 2026 giữa CÔNG TY CỔ PHẦN THƯƠNG MẠI VÀ HỢP TÁC QUỐC TẾ NHẬT VIỆT (JVCOM., JSC) và cơ quan tiếp nhận COOPERATIVE SOCIETY NKU, chúng tôi có nhu cầu tuyển dụng lao động kỹ năng đặc định Việt Nam theo các yêu cầu sau. 第 15号 2026年7月1日にJAPAN VIETNAM TRADE AND INTERNATIONAL COOPERATION JOINT STOCK COMPANY (JVCOM., JSC) (送出機関）と 協同組合エヌ・ケー・ユー （監理団体）との間で締結された（特定技能労働者供給契約書） に基づき、ベトナム人特定技能労働者を下記の要項の通り募集致します。
A5: I. YÊU CẦU TUYỂN DỤNG/ 募集要項:
A6: Số lượng tiếp nhận 受入人数 | E6: =受入れ企業分!E13 -> 8 | F6: người 名 | G6: Giới tính 性別 | H6: =受入れ企業分!H13 -> 0 | I6: Nam 男 | J6: =受入れ企業分!J13 -> 8 | K6: Nữ 女 | L6: Độ tuổi 年齢 | M6: =受入れ企業分!M13:P13 -> 19-41 | Q6: Tuổi 歳
A7: Trình độ chuyên môn 専門要件 | E7: =受入れ企業分!E14:K14 -> Không yêu cầu 不問 | K7: Trình độ ngoại ngữ 外国語レベル | M7: =受入れ企業分!M14:S14 -> Người có thể giao tiếp bằng tiếng nhật ở trình độ N4 trở lên 日本語能力試験N4相当
A8: Đối tượng tuyển dụng 募集対象 | E8: Người lao động kết thúc TTS số 2, 3 cùng ngành nghề hoặc đã tự thi đỗ chứng chỉ kỹ năng đặc định ngành nông nghiệp (trồng trọt) và kỳ thi tiếng Nhật theo quy định của pháp luật Nhật Bản trước khi thi tuyển đơn hàng. 技能実習2号または3号を同一職種で修了した者、または求人への応募前に、日本の法令に基づき、農業分野（耕種農業）の特定技能評価試験および日本語試験に自ら合格した者。
A9: II. ĐIỀU KIỆN LÀM VIỆC CỤ THỂ/勤務条件は以下の通りである:
A10: Ngành nghề 職種 | E10: =受入れ企業分!E17:K17 -> Nông nghiệp 農業 | L10: Điều kiện môi trường làm việc 労働環境 | N10: =受入れ企業分!N17:S17 -> Trong xưởng và khu trồng trọt 工場内及び圃場
A11: Địa điểm làm việc 労働場所 | E11: =受入れ企業分!E18:K18 -> 509-1, Godai Waseda, Hirosaki City, Aomori 青森県弘前市五代字早稲田509-1 | L11: Dự kiến nhập cảnh 入国予定 | N11: =受入れ企業分!N18:S18 -> Tháng 2 năm 2027 2027年2月
A12: Thời hạn hợp đồng 契約期間 | E12: =受入れ企業分!E19 -> 1 | F12: năm 年 | L12: Lương cơ bản 基本給 | N12: 185220 | R12: Yên/tháng 円/月
A13: Lương giờ 時給 | E13: 1090 | F13: Yên/giờ 円/時間 | G13: Trợ cấp hàng tháng 月額手当 | I13: 10000 | K13: =受入れ企業分!K20 -> Yên/tháng 円/月 | L13: Tiền thưởng 賞与 | N13: =受入れ企業分!N20:R20 -> Không 無 | R13: =受入れ企業分!R20 -> Yên/năm 円/年
A14: Thời gian làm việc 勤務時間 | E14: 8 | F14: Tiếng/ngày 時間/日間 | G14: Thời gian nghỉ giải lao 休憩時間 | I14: 90 | K14: Phút/ngày 分/日間 | L14: Số ngày làm việc trong tuần 1週間の所定労働日数 | N14: 5 | R14: Ngày 日間
A15: Số giờ làm việc 1 tháng １か月の所定労働時間数 | E15: =受入れ企業分!E22 -> 169.92661 | F15: Giờ/tháng 時間/月 | G15: Số giờ làm việc trong năm 年間総所定労働時間数 | I15: =E15*12 -> 2039.1193 | K15: Giờ/năm 時間/年 | L15: Số ngày nghỉ trong năm 年間合計休日日数 | N15: 95 | R15: Ngày 日間
A16: Các khoản khấu trừ từ lương 賃金支払時に控除する項目 | F16: Thuế 税金 | G16: 2000 | H16: Yên/tháng 円/月 | K16: Các loại phí bảo hiểm 各種保険料 | M16: 28000 | N16: Yên/tháng 円/月
F17: Chi phí thuê nhà 家賃 | G17: 10000 | H17: Yên/tháng 円/月 | I17: Lao động kỹ năng đặc định tự chi trả / 特定技能労働者が支払う
A18: Điều kiện ăn ở sinh hoạt 生活に関する項目 | F18: Điện, nước, ga, internet 水道光熱費, インターネット | I18: Thực phí 実費 | K18: Yên/tháng 円/月 | L18: Lao động kỹ năng đặc định tự chi trả / 特定技能労働者が支払う
F19: Tiền ăn 食事代 | G19: Thực phí 実費 | H19: Yên/tháng 円/月 | I19: Lao động kỹ năng đặc định tự chi trả / 特定技能労働者が支払う
A20: Lương thực lĩnh 手取り額 | E20: 155220 | F20: Yên/ tháng 円/月
A21: Vé máy bay 航空券代 | C21: Bên tiếp nhận lao động đài thọ vé máy bay chiều đi, chiều về khi lao động hoàn thành hợp đồng hai bên sẽ thỏa thuận, nếu người lao động không thể chi trả tiền vé về thì Công ty sử dụng lao động sẽ mua vé máy bay cho người lao động. 労働者がベトナムから来日旅費には受け入れ企業が負担します。労働者が契約終了後帰国のチケット代に関しては 受け入れ企業と労働者と協議して決める。労働者がチケット代を負担出来ない場合には 受け入れ企業の方で労働者が帰国のチケットを購入できるようにする
A22: III.CHI PHÍ THANH TOÁN CHO CÔNG TY PHÁI CỬ / 送り出し機関へ支払い費用：
A23: Phí phái cử: サービス手数料: | E23: 195220 | F23: Yên /1 người 円/ 1人 | G23: Về chi trả phí đào tạo người lao động : Chi phí đào tạo người lao động do Bên tiếp nhận lao động chi trả 外国人特定技能者の教育費用の負担について「特定技能外国人の教育費用は受入れ機関が負担します。」 | P23: 0 | R23: Yên/ 1 người 円/ 1人
A24: IV. CÁC NỘI DUNG KHÁC/その他の内容: Không/無
L25: =受入れ企業分!L30:S30 -> 46227
L26: =受入れ企業分!L31:S31 -> 46227
I27: Bên tiếp nhận lao động | L27: =受入れ企業分!E3 -> COOPERATIVE SOCIETY NKU
I28: 監理団体 | L28: =受入れ企業分!E4 -> 協同組合エヌ・ケー・ユー
I29: Người đại diện | L29: =受入れ企業分!L3:M3 -> MATAGA RYOKO
I30: 代表者名 | L30: =受入れ企業分!L4:M4 -> 又賀 良子
I31: Ký tên, đóng dấu) (署名・捺印)
